{"text_format":"1","workbook":"xlsx","n_sheets":6,"sheets":["ФОРМА","ДС","Прил. 1 Нагрузка","Прил 3. Календ.План","222","Лист1"],"not_rendered":{"charts":0,"images":0,"macros":1,"external_links":0,"defined_names":2,"comments":1,"pivot_tables":0},"unopened":[],"bounds":{"document_bytes":16777216,"sheet_cells":100000,"rows_first":2000,"rows_last":500,"rows_between":2000,"halvings":0,"cell_chars":16384,"cell_head_chars":4096},"cells_cut":0,"cells_raw":0,"read":"whole","date_system":"1900"}

{"sheet":"ФОРМА","index":0,"n_rows":46,"n_cols":14,"rows_kept":46,"cut":false,"hidden":false,"merged":[[43,1,43,2],[44,1,44,2],[45,1,45,2],[1,1,1,2],[5,1,5,13],[6,1,7,1],[6,2,7,3],[8,2,8,3],[10,2,10,3],[6,4,6,12],[22,1,22,2],[22,3,22,5],[21,3,21,5],[16,2,16,3],[4,1,4,13],[2,1,2,2],[29,3,29,5],[26,3,26,5],[15,2,15,3],[23,3,23,5],[28,3,28,5],[25,1,25,5],[27,1,27,2],[28,1,28,2],[29,1,29,2],[27,3,27,5],[26,1,26,2],[17,2,17,3],[18,2,18,3],[21,1,21,2],[23,1,23,2],[19,1,19,3],[9,2,9,3],[12,2,12,3],[13,2,13,3],[14,2,14,3]]}
[]
[null,null,null,"Фамилия","Имя","Отчество"]
[null,"ФИО Исполнителя"]
[]
[null,"ТАБЛИЦА ДЛЯ ЗАПОЛНЕНИЯ ПРИЛОЖЕНИЯ 1 К ДОПОЛНИТЕЛЬНОМУ СОГЛАШЕНИЮ"]
[null,"Перечень, объем, цена оказываемых услуг:"]
[null,"Учебная группа","Наименование дисциплины по учебному плану",null,"Нагрузка, час"]
[null,null,null,null,"лекции","практические занятия","лабораторные занятия","руководство/прием курсовых работ","прием зачетов/ экзаменов","руководство практикой","руководство НИР обучающихся ","участие в работе ГЭК",null,"Всего часов учебной нагрузки"]
[null,null,null,null,null,null,null,null,null,null,null,null,null,{"$f":"IF(SUM(E9:M9)=0,\"\",SUM(E9:M9))","v":""}]
[null,null,null,null,null,null,null,null,null,null,null,null,null,{"$f":"IF(SUM(E10:M10)=0,\"\",SUM(E10:M10))","v":""}]
[null,null,null,null,null,null,null,null,null,null,null,null,null,""]
[null,null,null,null,null,null,null,null,null,null,null,null,null,""]
[null,null,null,null,null,null,null,null,null,null,null,null,null,""]
[null,null,null,null,null,null,null,null,null,null,null,null,null,""]
[null,null,null,null,null,null,null,null,null,null,null,null,null,""]
[null,null,null,null,null,null,null,null,null,null,null,null,null,""]
[null,null,null,null,null,null,null,null,null,null,null,null,null,""]
[null,null,null,null,null,null,null,null,null,null,null,null,null,""]
[null,null,null,null,null,null,null,null,null,null,null,null,null,""]
[null,null,null,null,{"$f":"IF(SUM(E9:E19)=0,\"\",SUM(E9:E19))","v":""},"","","","","","","","",{"$f":"SUM(N9:N19)","v":0}]
[]
[null,"Единица изм.",null,"час"]
[null,"Количество ",null,{"$f":"N20","v":0}]
[null,"Цена за ед., руб.  \n(на руки+НДФЛ)"]
[]
[null,"СЕРЫЕ ОБЛАСТИ НЕ РЕДАКТИРУЮТСЯ!!!"]
[null,"Цена за единицу в тексте договора, руб.",null,{"$f":"D24*1.3","v":0}]
[null,"Общая сумма вознаграждения по договору+НДФЛ",null,{"$f":"ROUND(D24*D23,2)","v":0}]
[null,"Взносы в государственные внебюджетные фонды",null,{"$f":"ROUND(D28*0.3,2)","v":0}]
[null,"Цена договора, руб.",null,{"$f":"D28+D29","v":0}]
[]
[]
[null,"Этап","Дата окончания этапа","Кол-во часов","Стоимость этапа"]
[null,"Сентябрь","2025-09-30",null,{"$f":"ROUND(D34*$D$27,2)","v":0}]
[null,"Октябрь","2025-10-31",null,{"$f":"ROUND(D35*$D$27,2)","v":0}]
[null,"Ноябрь","2025-11-28",null,0]
[null,"Декабрь","2025-12-26",null,0]
[null,"Январь","2026-01-30",null,0]
[null,"Февраль","2026-02-27",null,0]
[null,"Март","2026-03-31",null,0]
[null,"Апрель","2026-04-30",null,0]
[null,"Май","2026-05-29",null,0]
[null,"Июнь","2026-07-06",null,{"$f":"ROUND(D43*$D$27,2)","v":0}]
[null,"Сумма по актам",null,{"$f":"SUM(D34:D43)","v":0},{"$f":"SUM(E34:E43)","v":0}]
[null,"Сумма по договору",null,{"$f":"N20","v":0},{"$f":"D30","v":0}]
[null,"Расхождения с данными Приложения №2",null,{"$f":"D45-D44","v":0},{"$f":"E45-E44","v":0}]

{"sheet":"ДС","index":1,"n_rows":28,"n_cols":10,"rows_kept":28,"cut":false,"hidden":false,"merged":[[14,0,14,1],[9,0,9,9],[11,0,11,9],[20,0,20,9],[12,2,12,9],[14,2,14,9],[17,2,17,9],[15,0,15,9],[27,0,27,3],[27,5,27,9],[26,0,26,3],[24,5,24,9],[0,0,0,9],[24,0,24,2],[19,0,19,9],[1,0,1,9],[3,0,3,3],[5,0,5,9],[7,0,7,9],[6,0,6,9],[16,0,16,9],[18,0,18,9],[12,0,12,1],[17,0,17,1]]}
["ДОПОЛНИТЕЛЬНОЕ СОГЛАШЕНИЕ"]
["к договору №________________________от _______________ (далее - Договор)"]
[]
["г. Санкт-Петербург ",null,null,null,null,null,null,null,null,"«____» _______________ 20___ г."]
[]
["Федеральное государственное бюджетное образовательное учреждение высшего образования  «Санкт-Петербургский государственный университет промышленных технологий и дизайна» (СПбГУПТД), именуемое в дальнейшем «Заказчик», в лице первого проректора, проректора по УР Рудина Александра Евгеньевича, действующего на основании доверенности № 38-01-01-10/01-37 от 16.01.2025 г., с одной стороны, и "]
[{"$f":"ФОРМА!D3&\" \"&ФОРМА!E3&\" \"&ФОРМА!F3&\",\"","v":"  ,"}]
["именуемый в дальнейшем «Исполнитель», с другой стороны, вместе именуемые «Стороны», в соответствии с Федеральным законом от 18.07.2011 № 223-ФЗ «О закупках товаров, работ, услуг отдельными видами юридических лиц», Положением о закупке Заказчика от 15.04.2022 г. составили настоящее соглашение к Договору (далее - Соглашение) о нижеследующем:"]
[]
["1. Читать п. 3.1 Договора в следующей редакции:"]
[]
["3.1. Цена Договора включает в себя все затраты, издержки и иные расходы Исполнителя, в том числе сопутствующие, связанные с исполнением настоящего Договора, является твердой и определяется на весь срок исполнения настоящего Договора. Общая стоимость услуг по настоящему Договору составляет"]
[{"$f":"ФОРМА!D30","v":0},null,{"$f":"'222'!E9&\" в том числе:\"","v":"(Нол) руб. 00 коп. в том числе:"}]
["-   сумма вознаграждения по договору"]
[{"$f":"ФОРМА!D28","v":0},null,{"$f":"'222'!G9","v":"(Нол) руб. 00 коп."}]
["включая НДФЛ, который Заказчик, являясь налоговым агентом, удерживает и перечисляет в бюджет;"]
["-   взносы в государственные внебюджетные фонды, перечисляемые Заказчиком (30%)"]
[{"$f":"ФОРМА!D29","v":0},null,{"$f":"'222'!G14","v":"(Нол) руб. 00 коп."}]
["2. Читать Приложение №1 и Приложение №3 к Договору в редакции приложения к настоящему Соглашению."]
["3. Настоящее Соглашение вступает в силу с момента его подписания Сторонами."]
["4. Во всем остальном, что не урегулировано в настоящем Соглашении, Стороны руководствуются условиями Договора."]
[]
[]
["ЗАКАЗЧИК",null,null,null,null,"ИСПОЛНИТЕЛЬ"]
["СПбГУПТД ",null,null,null,null,{"$f":"\"Ф.И.О:  \"&ФОРМА!D3&\" \"&ФОРМА!E3&\" \"&ФОРМА!F3","v":"Ф.И.О:    "}]
[]
["Первый проректор, проректор по УР"]
["_________________А.Е. Рудин",null,null,null,null,{"$f":"\"_____________________ \"&LEFT(ФОРМА!E3,1)&\".\"&LEFT(ФОРМА!F3,1)&\". \"&ФОРМА!D3","v":"_____________________ .. "}]

{"sheet":"Прил. 1 Нагрузка","index":2,"n_rows":31,"n_cols":12,"rows_kept":31,"cut":false,"hidden":false,"merged":[[30,0,30,3],[20,0,20,1],[7,0,8,0],[7,1,8,1],[7,2,7,10],[28,0,28,3],[29,0,29,3],[21,2,21,11],[22,2,22,11],[24,0,24,11],[21,0,21,1],[22,0,22,1],[7,11,8,11]]}
[null,null,null,null,null,null,null,null,null,null,null,"Приложение к Дополнительному соглашению от \"__\" ___________ 20___ г."]
[null,null,null,null,null,null,null,null,null,null,null,"Приложение №1"]
[null,null,null,null,null,null,null,null,null,null,null," к договору на оказание услуг"]
[null,null,null,null,null,null,null,null,null,null,null,"физическим лицом №______________________ от _____________ г."]
[]
[]
["Перечень, объем, цена оказываемых услуг"]
["Учебная группа","Наименование дисциплины по учебному плану","Нагрузка, час",null,null,null,null,null,null,null,null,"Всего часов учебной \nнагрузки"]
[null,null,"лекции","практические занятия","лабораторные занятия","руководство/\nприем курсовых работ","прием зачетов/ экзаменов","руководство практикой","руководство НИР \nобучающихся ","участие в работе ГЭК",{"$f":"IF(ФОРМА!M8=\"\",\"\",ФОРМА!M8)","v":""}]
[{"$f":"IF(ФОРМА!B9=\"\",\"\",ФОРМА!B9)","v":""},{"$f":"IF(ФОРМА!C9=\"\",\"\",ФОРМА!C9)","v":""},{"$f":"IF(ФОРМА!E9=\"\",\"\",ФОРМА!E9)","v":""},{"$f":"IF(ФОРМА!F9=\"\",\"\",ФОРМА!F9)","v":""},{"$f":"IF(ФОРМА!G9=\"\",\"\",ФОРМА!G9)","v":""},{"$f":"IF(ФОРМА!H9=\"\",\"\",ФОРМА!H9)","v":""},{"$f":"IF(ФОРМА!I9=\"\",\"\",ФОРМА!I9)","v":""},{"$f":"IF(ФОРМА!J9=\"\",\"\",ФОРМА!J9)","v":""},{"$f":"IF(ФОРМА!K9=\"\",\"\",ФОРМА!K9)","v":""},{"$f":"IF(ФОРМА!L9=\"\",\"\",ФОРМА!L9)","v":""},{"$f":"IF(ФОРМА!M9=\"\",\"\",ФОРМА!M9)","v":""},{"$f":"IF(SUM(C10:K10)=0,\"\",SUM(C10:K10))","v":""}]
[{"$f":"IF(ФОРМА!B10=\"\",\"\",ФОРМА!B10)","v":""},{"$f":"IF(ФОРМА!C10=\"\",\"\",ФОРМА!C10)","v":""},{"$f":"IF(ФОРМА!E10=\"\",\"\",ФОРМА!E10)","v":""},{"$f":"IF(ФОРМА!F10=\"\",\"\",ФОРМА!F10)","v":""},{"$f":"IF(ФОРМА!G10=\"\",\"\",ФОРМА!G10)","v":""},{"$f":"IF(ФОРМА!H10=\"\",\"\",ФОРМА!H10)","v":""},{"$f":"IF(ФОРМА!I10=\"\",\"\",ФОРМА!I10)","v":""},{"$f":"IF(ФОРМА!J10=\"\",\"\",ФОРМА!J10)","v":""},{"$f":"IF(ФОРМА!K10=\"\",\"\",ФОРМА!K10)","v":""},{"$f":"IF(ФОРМА!L10=\"\",\"\",ФОРМА!L10)","v":""},{"$f":"IF(ФОРМА!M10=\"\",\"\",ФОРМА!M10)","v":""},{"$f":"IF(SUM(C11:K11)=0,\"\",SUM(C11:K11))","v":""}]
[{"$f":"IF(ФОРМА!B11=\"\",\"\",ФОРМА!B11)","v":""},{"$f":"IF(ФОРМА!C11=\"\",\"\",ФОРМА!C11)","v":""},{"$f":"IF(ФОРМА!E11=\"\",\"\",ФОРМА!E11)","v":""},{"$f":"IF(ФОРМА!F11=\"\",\"\",ФОРМА!F11)","v":""},{"$f":"IF(ФОРМА!G11=\"\",\"\",ФОРМА!G11)","v":""},{"$f":"IF(ФОРМА!H11=\"\",\"\",ФОРМА!H11)","v":""},{"$f":"IF(ФОРМА!I11=\"\",\"\",ФОРМА!I11)","v":""},{"$f":"IF(ФОРМА!J11=\"\",\"\",ФОРМА!J11)","v":""},{"$f":"IF(ФОРМА!K11=\"\",\"\",ФОРМА!K11)","v":""},{"$f":"IF(ФОРМА!L11=\"\",\"\",ФОРМА!L11)","v":""},{"$f":"IF(ФОРМА!M11=\"\",\"\",ФОРМА!M11)","v":""},""]
[{"$f":"IF(ФОРМА!B12=\"\",\"\",ФОРМА!B12)","v":""},{"$f":"IF(ФОРМА!C12=\"\",\"\",ФОРМА!C12)","v":""},{"$f":"IF(ФОРМА!E12=\"\",\"\",ФОРМА!E12)","v":""},{"$f":"IF(ФОРМА!F12=\"\",\"\",ФОРМА!F12)","v":""},{"$f":"IF(ФОРМА!G12=\"\",\"\",ФОРМА!G12)","v":""},{"$f":"IF(ФОРМА!H12=\"\",\"\",ФОРМА!H12)","v":""},{"$f":"IF(ФОРМА!I12=\"\",\"\",ФОРМА!I12)","v":""},{"$f":"IF(ФОРМА!J12=\"\",\"\",ФОРМА!J12)","v":""},{"$f":"IF(ФОРМА!K12=\"\",\"\",ФОРМА!K12)","v":""},{"$f":"IF(ФОРМА!L12=\"\",\"\",ФОРМА!L12)","v":""},{"$f":"IF(ФОРМА!M12=\"\",\"\",ФОРМА!M12)","v":""},""]
[{"$f":"IF(ФОРМА!B13=\"\",\"\",ФОРМА!B13)","v":""},{"$f":"IF(ФОРМА!C13=\"\",\"\",ФОРМА!C13)","v":""},{"$f":"IF(ФОРМА!E13=\"\",\"\",ФОРМА!E13)","v":""},{"$f":"IF(ФОРМА!F13=\"\",\"\",ФОРМА!F13)","v":""},{"$f":"IF(ФОРМА!G13=\"\",\"\",ФОРМА!G13)","v":""},{"$f":"IF(ФОРМА!H13=\"\",\"\",ФОРМА!H13)","v":""},{"$f":"IF(ФОРМА!I13=\"\",\"\",ФОРМА!I13)","v":""},{"$f":"IF(ФОРМА!J13=\"\",\"\",ФОРМА!J13)","v":""},{"$f":"IF(ФОРМА!K13=\"\",\"\",ФОРМА!K13)","v":""},{"$f":"IF(ФОРМА!L13=\"\",\"\",ФОРМА!L13)","v":""},{"$f":"IF(ФОРМА!M13=\"\",\"\",ФОРМА!M13)","v":""},""]
[{"$f":"IF(ФОРМА!B14=\"\",\"\",ФОРМА!B14)","v":""},{"$f":"IF(ФОРМА!C14=\"\",\"\",ФОРМА!C14)","v":""},{"$f":"IF(ФОРМА!E14=\"\",\"\",ФОРМА!E14)","v":""},{"$f":"IF(ФОРМА!F14=\"\",\"\",ФОРМА!F14)","v":""},{"$f":"IF(ФОРМА!G14=\"\",\"\",ФОРМА!G14)","v":""},{"$f":"IF(ФОРМА!H14=\"\",\"\",ФОРМА!H14)","v":""},{"$f":"IF(ФОРМА!I14=\"\",\"\",ФОРМА!I14)","v":""},{"$f":"IF(ФОРМА!J14=\"\",\"\",ФОРМА!J14)","v":""},{"$f":"IF(ФОРМА!K14=\"\",\"\",ФОРМА!K14)","v":""},{"$f":"IF(ФОРМА!L14=\"\",\"\",ФОРМА!L14)","v":""},{"$f":"IF(ФОРМА!M14=\"\",\"\",ФОРМА!M14)","v":""},""]
[{"$f":"IF(ФОРМА!B15=\"\",\"\",ФОРМА!B15)","v":""},{"$f":"IF(ФОРМА!C15=\"\",\"\",ФОРМА!C15)","v":""},{"$f":"IF(ФОРМА!E15=\"\",\"\",ФОРМА!E15)","v":""},{"$f":"IF(ФОРМА!F15=\"\",\"\",ФОРМА!F15)","v":""},{"$f":"IF(ФОРМА!G15=\"\",\"\",ФОРМА!G15)","v":""},{"$f":"IF(ФОРМА!H15=\"\",\"\",ФОРМА!H15)","v":""},{"$f":"IF(ФОРМА!I15=\"\",\"\",ФОРМА!I15)","v":""},{"$f":"IF(ФОРМА!J15=\"\",\"\",ФОРМА!J15)","v":""},{"$f":"IF(ФОРМА!K15=\"\",\"\",ФОРМА!K15)","v":""},{"$f":"IF(ФОРМА!L15=\"\",\"\",ФОРМА!L15)","v":""},{"$f":"IF(ФОРМА!M15=\"\",\"\",ФОРМА!M15)","v":""},""]
[{"$f":"IF(ФОРМА!B16=\"\",\"\",ФОРМА!B16)","v":""},{"$f":"IF(ФОРМА!C16=\"\",\"\",ФОРМА!C16)","v":""},{"$f":"IF(ФОРМА!E16=\"\",\"\",ФОРМА!E16)","v":""},{"$f":"IF(ФОРМА!F16=\"\",\"\",ФОРМА!F16)","v":""},{"$f":"IF(ФОРМА!G16=\"\",\"\",ФОРМА!G16)","v":""},{"$f":"IF(ФОРМА!H16=\"\",\"\",ФОРМА!H16)","v":""},{"$f":"IF(ФОРМА!I16=\"\",\"\",ФОРМА!I16)","v":""},{"$f":"IF(ФОРМА!J16=\"\",\"\",ФОРМА!J16)","v":""},{"$f":"IF(ФОРМА!K16=\"\",\"\",ФОРМА!K16)","v":""},{"$f":"IF(ФОРМА!L16=\"\",\"\",ФОРМА!L16)","v":""},{"$f":"IF(ФОРМА!M16=\"\",\"\",ФОРМА!M16)","v":""},""]
[{"$f":"IF(ФОРМА!B17=\"\",\"\",ФОРМА!B17)","v":""},{"$f":"IF(ФОРМА!C17=\"\",\"\",ФОРМА!C17)","v":""},{"$f":"IF(ФОРМА!E17=\"\",\"\",ФОРМА!E17)","v":""},{"$f":"IF(ФОРМА!F17=\"\",\"\",ФОРМА!F17)","v":""},{"$f":"IF(ФОРМА!G17=\"\",\"\",ФОРМА!G17)","v":""},{"$f":"IF(ФОРМА!H17=\"\",\"\",ФОРМА!H17)","v":""},{"$f":"IF(ФОРМА!I17=\"\",\"\",ФОРМА!I17)","v":""},{"$f":"IF(ФОРМА!J17=\"\",\"\",ФОРМА!J17)","v":""},{"$f":"IF(ФОРМА!K17=\"\",\"\",ФОРМА!K17)","v":""},{"$f":"IF(ФОРМА!L17=\"\",\"\",ФОРМА!L17)","v":""},{"$f":"IF(ФОРМА!M17=\"\",\"\",ФОРМА!M17)","v":""},""]
[{"$f":"IF(ФОРМА!B18=\"\",\"\",ФОРМА!B18)","v":""},{"$f":"IF(ФОРМА!C18=\"\",\"\",ФОРМА!C18)","v":""},{"$f":"IF(ФОРМА!E18=\"\",\"\",ФОРМА!E18)","v":""},{"$f":"IF(ФОРМА!F18=\"\",\"\",ФОРМА!F18)","v":""},{"$f":"IF(ФОРМА!G18=\"\",\"\",ФОРМА!G18)","v":""},{"$f":"IF(ФОРМА!H18=\"\",\"\",ФОРМА!H18)","v":""},{"$f":"IF(ФОРМА!I18=\"\",\"\",ФОРМА!I18)","v":""},{"$f":"IF(ФОРМА!J18=\"\",\"\",ФОРМА!J18)","v":""},{"$f":"IF(ФОРМА!K18=\"\",\"\",ФОРМА!K18)","v":""},{"$f":"IF(ФОРМА!L18=\"\",\"\",ФОРМА!L18)","v":""},{"$f":"IF(ФОРМА!M18=\"\",\"\",ФОРМА!M18)","v":""},{"$f":"IF(SUM(C19:K19)=0,\"\",SUM(C19:K19))","v":""}]
[{"$f":"IF(ФОРМА!B19=\"\",\"\",ФОРМА!B19)","v":""},{"$f":"IF(ФОРМА!C19=\"\",\"\",ФОРМА!C19)","v":""},{"$f":"IF(ФОРМА!E19=\"\",\"\",ФОРМА!E19)","v":""},{"$f":"IF(ФОРМА!F19=\"\",\"\",ФОРМА!F19)","v":""},{"$f":"IF(ФОРМА!G19=\"\",\"\",ФОРМА!G19)","v":""},{"$f":"IF(ФОРМА!H19=\"\",\"\",ФОРМА!H19)","v":""},{"$f":"IF(ФОРМА!I19=\"\",\"\",ФОРМА!I19)","v":""},{"$f":"IF(ФОРМА!J19=\"\",\"\",ФОРМА!J19)","v":""},{"$f":"IF(ФОРМА!K19=\"\",\"\",ФОРМА!K19)","v":""},{"$f":"IF(ФОРМА!L19=\"\",\"\",ФОРМА!L19)","v":""},{"$f":"IF(ФОРМА!M19=\"\",\"\",ФОРМА!M19)","v":""},{"$f":"IF(SUM(C20:K20)=0,\"\",SUM(C20:K20))","v":""}]
["Итого (час.)",null,{"$f":"IF(SUM(C10:C20)=0,\"\",SUM(C10:C20))","v":""},{"$f":"IF(SUM(D10:D20)=0,\"\",SUM(D10:D20))","v":""},"","","","","","","",{"$f":"SUM(L10:L20)","v":0}]
["Цена за ед., руб.*",null,{"$f":"ФОРМА!D27","v":0}]
["Стоимость, руб.*",null,{"$f":"L21*C22","v":0}]
[]
["* Включает сумму вознаграждения по договору, включая НДФЛ (13%), который Заказчик, являясь налоговым агентом, удерживает и перечисляет в бюджет, а также взносы в государственные внебюджетные фонды, перечисляемые Заказчиком в соответствии с действующим законодательством Российской Федерации (30%)"]
[]
["ЗАКАЗЧИК",null,null,null,null,null,"ИСПОЛНИТЕЛЬ"]
[]
["Первый проректор, проректор по УР "]
[]
["____________________А.Е. Рудин",null,null,null,null,null,{"$f":"\"__________________ \"&LEFT(ФОРМА!E3,1)&\".\"&LEFT(ФОРМА!F3,1)&\". \"&ФОРМА!D3","v":"__________________ .. "}]

{"sheet":"Прил 3. Календ.План","index":3,"n_rows":26,"n_cols":4,"rows_kept":26,"cut":false,"hidden":false,"merged":[[17,0,17,1],[19,0,19,3],[23,0,23,1]]}
[null,null,null,"Приложение №3"]
[null,null,null," к договору на оказание услуг"]
[null,null,null,"физическим лицом №__________________ от _______________ г."]
[]
[null,null,"Календарный план"]
[]
["Этап","Дата окончания этапа","Кол-во часов","Стоимость этапа"]
["Сентябрь",{"$f":"ФОРМА!C34","v":"2025-09-30"},{"$f":"ФОРМА!D34","v":0},{"$f":"ФОРМА!E34","v":0}]
["Октябрь",{"$f":"ФОРМА!C35","v":"2025-10-31"},{"$f":"ФОРМА!D35","v":0},{"$f":"ФОРМА!E35","v":0}]
["Ноябрь",{"$f":"ФОРМА!C36","v":"2025-11-28"},{"$f":"ФОРМА!D36","v":0},{"$f":"ФОРМА!E36","v":0}]
["Декабрь",{"$f":"ФОРМА!C37","v":"2025-12-26"},{"$f":"ФОРМА!D37","v":0},{"$f":"ФОРМА!E37","v":0}]
["Январь",{"$f":"ФОРМА!C38","v":"2026-01-30"},{"$f":"ФОРМА!D38","v":0},{"$f":"ФОРМА!E38","v":0}]
["Февраль",{"$f":"ФОРМА!C39","v":"2026-02-27"},{"$f":"ФОРМА!D39","v":0},{"$f":"ФОРМА!E39","v":0}]
["Март",{"$f":"ФОРМА!C40","v":"2026-03-31"},{"$f":"ФОРМА!D40","v":0},{"$f":"ФОРМА!E40","v":0}]
["Апрель",{"$f":"ФОРМА!C41","v":"2026-04-30"},{"$f":"ФОРМА!D41","v":0},{"$f":"ФОРМА!E41","v":0}]
["Май",{"$f":"ФОРМА!C42","v":"2026-05-29"},{"$f":"ФОРМА!D42","v":0},{"$f":"ФОРМА!E42","v":0}]
["Июнь",{"$f":"ФОРМА!C43","v":"2026-07-06"},{"$f":"ФОРМА!D43","v":0},{"$f":"ФОРМА!E43","v":0}]
["Сумма ",null,{"$f":"SUM(C8:C17)","v":0},{"$f":"SUM(D8:D17)","v":0}]
[]
["В случае, если при исполнении договора происходит перераспределение количества часов между этапами с сохранением общего объема  услуг по договору, дополнительное соглашение не составляется."]
[]
["ЗАКАЗЧИК",null,null,"ИСПОЛНИТЕЛЬ"]
[]
["Первый проректор, проректор по УР "]
[]
["____________________А.Е. Рудин",null,null,{"$f":"\"__________________ \"&LEFT(ФОРМА!E3,1)&\".\"&LEFT(ФОРМА!F3,1)&\". \"&ФОРМА!D3","v":"__________________ .. "}]

{"sheet":"222","index":4,"n_rows":14,"n_cols":11,"rows_kept":14,"cut":false,"hidden":true,"merged":[]}
["месяц",null,null,{"$f":"#REF!","v":{"$error":"#REF!"}},"Сумма прописью",null,"Сумма прописью",null,"Единицы измерения",null,{"$f":"ФОРМА!D3&\" \"","v":" "}]
["января","январе",null,null,{"$f":"СУММАПРОПИСЬЮ('222'!D1)","v":{"$error":"#VALUE!"}},null,{"$f":"СУММАПРОПИСЬЮ('222'!F1)","v":"ноль"},null,null,null,{"$f":"LEFT(ФОРМА!E3,1)&\".\"","v":"."}]
["февраля","феврале",null,null,{"$f":"\"(\"&UPPER(LEFT(E2,1))&MID(E2,2,LEN(E2)-2)&\")\"","v":{"$error":"#VALUE!"}},null,{"$f":"\"(\"&UPPER(LEFT(G2,1))&MID(G2,2,LEN(G2)-2)&\")\"","v":"(Нол)"},null,"час",null,{"$f":"LEFT(ФОРМА!F3,1)&\".\"","v":"."}]
["марта","марте",null,null,{"$f":"E3&\" руб. \"&TEXT((D1-INT(D1))*100,\"00\")&\" коп.\"","v":{"$error":"#VALUE!"}},null,{"$f":"G3&\" руб. \"&TEXT((F1-INT(F1))*100,\"00\")&\" коп.\"","v":"(Нол) руб. 00 коп."},null,"усл.ед."]
["апреля","апреле"]
["мая","мае",null,{"$f":"ФОРМА!D30","v":0},"Сумма прописью",{"$f":"ФОРМА!D28","v":0},"Сумма прописью"]
["июня","июне",null,null,{"$f":"СУММАПРОПИСЬЮ('222'!D6)","v":"ноль"},null,{"$f":"СУММАПРОПИСЬЮ('222'!F6)","v":"ноль"}]
["июля","июле",null,null,{"$f":"\"(\"&UPPER(LEFT(E7,1))&MID(E7,2,LEN(E7)-2)&\")\"","v":"(Нол)"},null,{"$f":"\"(\"&UPPER(LEFT(G7,1))&MID(G7,2,LEN(G7)-2)&\")\"","v":"(Нол)"}]
["августа","августе",null,null,{"$f":"E8&\" руб. \"&TEXT((D6-INT(D6))*100,\"00\")&\" коп.\"","v":"(Нол) руб. 00 коп."},null,{"$f":"G8&\" руб. \"&TEXT((F6-INT(F6))*100,\"00\")&\" коп.\"","v":"(Нол) руб. 00 коп."}]
["сентября","сентябре"]
["октября","октябре",null,null,null,{"$f":"ФОРМА!D29","v":0},"Сумма прописью"]
["ноября","ноябре",null,null,null,null,{"$f":"СУММАПРОПИСЬЮ('222'!F11)","v":"ноль"}]
["декабря","декабре",null,null,null,null,{"$f":"\"(\"&UPPER(LEFT(G12,1))&MID(G12,2,LEN(G12)-2)&\")\"","v":"(Нол)"}]
[null,null,null,null,null,null,{"$f":"G13&\" руб. \"&TEXT((F11-INT(F11))*100,\"00\")&\" коп.\"","v":"(Нол) руб. 00 коп."}]

{"sheet":"Лист1","index":5,"n_rows":1,"n_cols":1,"rows_kept":1,"cut":false,"hidden":true,"merged":[]}
["* Включает сумму вознаграждения по договору, включая НДФЛ (13%), который Заказчик, являясь налоговым агентом, удерживает и перечисляет в бюджет, а также взносы в государственные внебюджетные фонды, перечисляемые Заказчиком в соответствии с действующим законодательством Российской Федерации (30%)"]